BEGIN:VCALENDAR
VERSION:2.0
PRODID:-//The Alliance for OpenUSD (AOUSD) - ECPv6.15.20//NONSGML v1.0//EN
CALSCALE:GREGORIAN
METHOD:PUBLISH
X-ORIGINAL-URL:https://aousd.org
X-WR-CALDESC:Events for The Alliance for OpenUSD (AOUSD)
REFRESH-INTERVAL;VALUE=DURATION:PT1H
X-Robots-Tag:noindex
X-PUBLISHED-TTL:PT1H
BEGIN:VTIMEZONE
TZID:America/Los_Angeles
BEGIN:DAYLIGHT
TZOFFSETFROM:-0800
TZOFFSETTO:-0700
TZNAME:PDT
DTSTART:20230312T100000
END:DAYLIGHT
BEGIN:STANDARD
TZOFFSETFROM:-0700
TZOFFSETTO:-0800
TZNAME:PST
DTSTART:20231105T090000
END:STANDARD
BEGIN:DAYLIGHT
TZOFFSETFROM:-0800
TZOFFSETTO:-0700
TZNAME:PDT
DTSTART:20240310T100000
END:DAYLIGHT
BEGIN:STANDARD
TZOFFSETFROM:-0700
TZOFFSETTO:-0800
TZNAME:PST
DTSTART:20241103T090000
END:STANDARD
BEGIN:DAYLIGHT
TZOFFSETFROM:-0800
TZOFFSETTO:-0700
TZNAME:PDT
DTSTART:20250309T100000
END:DAYLIGHT
BEGIN:STANDARD
TZOFFSETFROM:-0700
TZOFFSETTO:-0800
TZNAME:PST
DTSTART:20251102T090000
END:STANDARD
END:VTIMEZONE
BEGIN:VEVENT
DTSTART;VALUE=DATE:20241203
DTEND;VALUE=DATE:20241207
DTSTAMP:20260421T024212
CREATED:20241125T152436Z
LAST-MODIFIED:20241125T214750Z
UID:10000030-1733184000-1733529599@aousd.org
SUMMARY:SIGGRAPH Asia
DESCRIPTION:SIGGRAPH Asia 2024 will take place in Tokyo\, Japan\, at Tokyo International Forum. The annual event\, which rotates around the Asian region\, attracts technical and creative people from all over the world who are excited by research\, science\, art\, animation\, gaming\, interactivity\, education\, and emerging technologies. \nRegister today. \nFor resources on OpenUSD\, attend the instructor-led Learn OpenUSD courses at SIGGRAPH Asia on December 3.  \nEngage with AOUSD members at the show\, including: Adobe\, Ansys\, Apple\, Intel\, Meta\, Microsoft\, NVIDIA\, SideFX\, and Sony.
URL:https://aousd.org/event/siggraph-asia/
ATTACH;FMTTYPE=image/jpeg:https://aousd.org/wp-content/uploads/sites/28/2024/11/sigg-asia.jpg
END:VEVENT
END:VCALENDAR